BEGIN:VCALENDAR
VERSION:2.0
PRODID:-//Aysgarth and District Parish Council//Meeting Calendar//EN
CALSCALE:GREGORIAN
METHOD:PUBLISH
BEGIN:VEVENT
UID:70577-20230525@aysgarthanddistrict-pc.gov.uk
DTSTAMP:20260420T083838Z
DTSTART;VALUE=DATE:20230525
DTEND;VALUE=DATE:20230526
SUMMARY:Annual Council Meeting &#8211\\; 25 May 2023
DESCRIPTION:Annual Parish Meeting\nView details: https://aysgarthanddistrict-pc.gov.uk/meetings/annual-council-meeting-25-may-2023/
URL:https://aysgarthanddistrict-pc.gov.uk/meetings/annual-council-meeting-25-may-2023/
END:VEVENT
END:VCALENDAR
