BEGIN:VCALENDAR
VERSION:2.0
PRODID:-//Aysgarth and District Parish Council//Meeting Calendar//EN
CALSCALE:GREGORIAN
METHOD:PUBLISH
BEGIN:VEVENT
UID:70579-20220526@aysgarthanddistrict-pc.gov.uk
DTSTAMP:20260424T082508Z
DTSTART;VALUE=DATE:20220526
DTEND;VALUE=DATE:20220527
SUMMARY:Annual Council Meeting &#8211\\; 26 May 2022
DESCRIPTION:Annual Parish Meeting\nView details: https://aysgarthanddistrict-pc.gov.uk/meetings/annual-council-meeting-26-may-2022/
URL:https://aysgarthanddistrict-pc.gov.uk/meetings/annual-council-meeting-26-may-2022/
END:VEVENT
END:VCALENDAR
